BEGIN:VCALENDAR
VERSION:2.0
PRODID:icalendar-ruby
CALSCALE:GREGORIAN
METHOD:PUBLISH
BEGIN:VEVENT
DTSTAMP:20260421T040130Z
UID:35-481144@ctkatascocita.org
DTSTART;VALUE=DATE:20260614
DTEND;VALUE=DATE:20260614
CLASS:PUBLIC
CREATED:20260420T202026
DESCRIPTION:
LAST-MODIFIED:20260420T202026
LOCATION:19330 Pinehurst Trail Dr Humble\, TX 77346
SUMMARY:Sunday Worship
URL;VALUE=URI:https://www.ctkatascocita.org/events/sunday-worship--35/2026-
 06-14
ATTACH;FILENAME=Summer-Worship-event-card-3.png;FMTTYPE=image/png:https://d
 q5pwpg1q8ru0.cloudfront.net/2026/04/18/18/16/32/92e729b7-d688-4752-89cb-83
 0d94b62c08/Summer-Worship-event-card-3.png
END:VEVENT
END:VCALENDAR
