BEGIN:VCALENDAR
VERSION:2.0
PRODID:icalendar-ruby
CALSCALE:GREGORIAN
METHOD:PUBLISH
BEGIN:VEVENT
DTSTAMP:20260422T115532Z
UID:27-481583@ctkatascocita.org
DTSTART:20260428T233000Z
DTEND:20260429T010000Z
CLASS:PUBLIC
CREATED:20260421T095908
DESCRIPTION:
LAST-MODIFIED:20260421T095908
LOCATION:Parish Hall
SUMMARY:Vestry Meeting
URL;VALUE=URI:https://www.ctkatascocita.org/events/vestry-meeting/2026-04-2
 8
ATTACH;FILENAME=Vestry-Meeting.png;FMTTYPE=image/png:https://dq5pwpg1q8ru0.
 cloudfront.net/2026/03/14/21/30/30/fd0e5617-fdd4-4b55-8e10-dbcb441f0c8d/Ve
 stry-Meeting.png
END:VEVENT
END:VCALENDAR
